BEGIN:VCALENDAR
VERSION:2.0
PRODID:-//Pacific Point Christian Schools - ECPv6.15.20//NONSGML v1.0//EN
CALSCALE:GREGORIAN
METHOD:PUBLISH
X-ORIGINAL-URL:https://pacpoint.net
X-WR-CALDESC:Events for Pacific Point Christian Schools
REFRESH-INTERVAL;VALUE=DURATION:PT1H
X-Robots-Tag:noindex
X-PUBLISHED-TTL:PT1H
BEGIN:VTIMEZONE
TZID:America/Los_Angeles
BEGIN:DAYLIGHT
TZOFFSETFROM:-0800
TZOFFSETTO:-0700
TZNAME:PDT
DTSTART:20250309T100000
END:DAYLIGHT
BEGIN:STANDARD
TZOFFSETFROM:-0700
TZOFFSETTO:-0800
TZNAME:PST
DTSTART:20251102T090000
END:STANDARD
BEGIN:DAYLIGHT
TZOFFSETFROM:-0800
TZOFFSETTO:-0700
TZNAME:PDT
DTSTART:20260308T100000
END:DAYLIGHT
BEGIN:STANDARD
TZOFFSETFROM:-0700
TZOFFSETTO:-0800
TZNAME:PST
DTSTART:20261101T090000
END:STANDARD
BEGIN:DAYLIGHT
TZOFFSETFROM:-0800
TZOFFSETTO:-0700
TZNAME:PDT
DTSTART:20270314T100000
END:DAYLIGHT
BEGIN:STANDARD
TZOFFSETFROM:-0700
TZOFFSETTO:-0800
TZNAME:PST
DTSTART:20271107T090000
END:STANDARD
END:VTIMEZONE
BEGIN:VEVENT
DTSTART;TZID=America/Los_Angeles:20260713T080000
DTEND;TZID=America/Los_Angeles:20260717T143000
DTSTAMP:20260422T153441
CREATED:20260212T154047Z
LAST-MODIFIED:20260315T234326Z
UID:10000769-1783929600-1784298600@pacpoint.net
SUMMARY:K-5 Builders Adventures (July13-17th 8:00 am-2:30pm)
DESCRIPTION:Builders Adventures Summer Camp is the ultimate playground for young creators and engineers! Campers will dive into hands-on building fun with LEGO\, building blocks\, K’NEX\, and more\, bringing their wildest ideas to life. Add in exciting water play and a variety of creative challenges\, and every day is packed with laughter\, teamwork\, and discovery. Builders Adventures is the perfect place for kids to imagine\, construct\, splash\, and explore while making unforgettable summer memories! \nEach day\, every camper will rotate through exciting stations\, including indoor and outdoor games\, art and crafts\, LEGO building\, cooking\, and age-appropriate STEM activities such as electric circuit projects and beginner coding. Water play happens every Friday\, so don’t forget a swimsuit and a towel. Each week wraps up with a show & tell\, giving campers a chance to share their creations and celebrate a week full of learning\, creativity\, and fun! \nAfter camp extended care is available for $20/hr. \nCamps must have a minimum of 12 campers to be viable. No refunds
URL:https://pacpoint.net/event/k-5-builders-adventures-july13-17th-800-am-230pm/
LOCATION:Elementary Campus\, 1575A Mantelli Dr\, Gilroy\, CA\, 95020\, United States
CATEGORIES:SUMMER PROGRAMS
ATTACH;FMTTYPE=image/png:https://pacpoint.net/wp-content/uploads/2026/02/6.png
END:VEVENT
END:VCALENDAR