BEGIN:VCALENDAR
VERSION:2.0
PRODID:-//Pacific Point Christian Schools - ECPv6.15.20//NONSGML v1.0//EN
CALSCALE:GREGORIAN
METHOD:PUBLISH
X-ORIGINAL-URL:https://pacpoint.net
X-WR-CALDESC:Events for Pacific Point Christian Schools
REFRESH-INTERVAL;VALUE=DURATION:PT1H
X-Robots-Tag:noindex
X-PUBLISHED-TTL:PT1H
BEGIN:VTIMEZONE
TZID:America/Los_Angeles
BEGIN:DAYLIGHT
TZOFFSETFROM:-0800
TZOFFSETTO:-0700
TZNAME:PDT
DTSTART:20250309T100000
END:DAYLIGHT
BEGIN:STANDARD
TZOFFSETFROM:-0700
TZOFFSETTO:-0800
TZNAME:PST
DTSTART:20251102T090000
END:STANDARD
BEGIN:DAYLIGHT
TZOFFSETFROM:-0800
TZOFFSETTO:-0700
TZNAME:PDT
DTSTART:20260308T100000
END:DAYLIGHT
BEGIN:STANDARD
TZOFFSETFROM:-0700
TZOFFSETTO:-0800
TZNAME:PST
DTSTART:20261101T090000
END:STANDARD
BEGIN:DAYLIGHT
TZOFFSETFROM:-0800
TZOFFSETTO:-0700
TZNAME:PDT
DTSTART:20270314T100000
END:DAYLIGHT
BEGIN:STANDARD
TZOFFSETFROM:-0700
TZOFFSETTO:-0800
TZNAME:PST
DTSTART:20271107T090000
END:STANDARD
END:VTIMEZONE
BEGIN:VEVENT
DTSTART;TZID=America/Los_Angeles:20260622T080000
DTEND;TZID=America/Los_Angeles:20260626T143000
DTSTAMP:20260422T154438
CREATED:20260211T191158Z
LAST-MODIFIED:20260212T171946Z
UID:10000765-1782115200-1782484200@pacpoint.net
SUMMARY:K-5th Gimme S’more Summer (June 22-26th 8:00 am-2:30 pm)
DESCRIPTION:Gimme S’more Summer Camp is a sweet summer adventure packed with hands-on fun and creativity! Campers will whip up tasty treats\, enjoy classic s’mores\, and explore their artistic side with engaging arts and crafts. From imaginative LEGO building to refreshing water play\, every day is filled with exciting activities and plenty of smiles. With a perfect mix of learning\, laughter\, and summer fun\, Gimme S’more is the place to make delicious memories and lasting friendships! \nEach day\, every camper will rotate through exciting stations\, including indoor and outdoor games\, art and crafts\, LEGO building\, cooking\, and age-appropriate STEM activities such as electric circuit projects and beginner coding. Water play happens every Friday\, so don’t forget a swimsuit and a towel. Each week wraps up with a show & tell\, giving campers a chance to share their creations and celebrate a week full of learning\, creativity\, and fun! \nAfter camp extended care is available for $20/hr. \nCamps must have a minimum of 12 campers to be viable. No refunds
URL:https://pacpoint.net/event/k-5th-gimme-smore-summer-june-22-26th-800-am-230-pm/
LOCATION:Elementary Campus\, 1575A Mantelli Dr\, Gilroy\, CA\, 95020\, United States
CATEGORIES:SUMMER PROGRAMS
ATTACH;FMTTYPE=image/png:https://pacpoint.net/wp-content/uploads/2026/02/3.png
END:VEVENT
END:VCALENDAR